BEGIN:VCALENDAR
VERSION:2.0
PRODID:-//UW-Superior - ECPv6.15.20//NONSGML v1.0//EN
CALSCALE:GREGORIAN
METHOD:PUBLISH
X-WR-CALNAME:UW-Superior
X-ORIGINAL-URL:https://uwsuper.edu
X-WR-CALDESC:Events for UW-Superior
REFRESH-INTERVAL;VALUE=DURATION:PT1H
X-Robots-Tag:noindex
X-PUBLISHED-TTL:PT1H
BEGIN:VTIMEZONE
TZID:America/Chicago
BEGIN:DAYLIGHT
TZOFFSETFROM:-0600
TZOFFSETTO:-0500
TZNAME:CDT
DTSTART:20250309T080000
END:DAYLIGHT
BEGIN:STANDARD
TZOFFSETFROM:-0500
TZOFFSETTO:-0600
TZNAME:CST
DTSTART:20251102T070000
END:STANDARD
BEGIN:DAYLIGHT
TZOFFSETFROM:-0600
TZOFFSETTO:-0500
TZNAME:CDT
DTSTART:20260308T080000
END:DAYLIGHT
BEGIN:STANDARD
TZOFFSETFROM:-0500
TZOFFSETTO:-0600
TZNAME:CST
DTSTART:20261101T070000
END:STANDARD
BEGIN:DAYLIGHT
TZOFFSETFROM:-0600
TZOFFSETTO:-0500
TZNAME:CDT
DTSTART:20270314T080000
END:DAYLIGHT
BEGIN:STANDARD
TZOFFSETFROM:-0500
TZOFFSETTO:-0600
TZNAME:CST
DTSTART:20271107T070000
END:STANDARD
END:VTIMEZONE
BEGIN:VEVENT
DTSTART;TZID=America/Chicago:20260424T090000
DTEND;TZID=America/Chicago:20260424T163000
DTSTAMP:20260424T101747
CREATED:20260102T190216Z
LAST-MODIFIED:20260424T133809Z
UID:10007583-1777021200-1777048200@uwsuper.edu
SUMMARY:National Library Week
DESCRIPTION:April 19-25\, 2026 is National Library Week\, a time to highlight the valuable role libraries\, librarians and library workers play in transforming lives and strengthening communities. This week\, Jim Dan Hill Library invites all campus community members in to browse our resources. Pick up a free browsing bag\, lanyard and pen while you’re here this week! On Tuesday\, April 21\, 2026 we will have refreshments to celebrate as well!  \n\n\n  \n\n\nThis National Library Week\, the campus can show their appreciation and support for libraries by visiting their library’s website\, following them on social media and using the hashtag #NationalLibraryWeek
URL:https://uwsuper.edu/event/national-library-week-2026-04-24/
CATEGORIES:Student Event
END:VEVENT
BEGIN:VEVENT
DTSTART;TZID=America/Chicago:20260424T093000
DTEND;TZID=America/Chicago:20260424T160000
DTSTAMP:20260424T101747
CREATED:20260422T193810Z
LAST-MODIFIED:20260424T133810Z
UID:10008534-1777023000-1777046400@uwsuper.edu
SUMMARY:Fake Quinceañera
DESCRIPTION:We will host an event that celebrates the tradition of a Latin American Quinceañera\, featuring music\, food\, and all the important aspects that take place in a traditional celebration. VIVA would like to reserve this space beforehand to set up everything for the event.
URL:https://uwsuper.edu/event/fake-quinceanera-2026-04-24/
CATEGORIES:Student Event
END:VEVENT
BEGIN:VEVENT
DTSTART;TZID=America/Chicago:20260424T110000
DTEND;TZID=America/Chicago:20260424T140000
DTSTAMP:20260424T101747
CREATED:20260410T041809Z
LAST-MODIFIED:20260424T041210Z
UID:10008437-1777028400-1777039200@uwsuper.edu
SUMMARY:Men's Golf vs UWS Spring Invite
DESCRIPTION:4/24 11:00 AM University of Wisconsin-Superior Men’s Golf vs UWS Spring Invite
URL:https://uwsuper.edu/event/mens-golf-vs-uws-spring-invite-11572/
CATEGORIES:Athletic Event,Open to the Public
ATTACH;FMTTYPE=image/webp:https://uwsuper.edu/wp-content/uploads/UW_Superior_2024.webp
END:VEVENT
BEGIN:VEVENT
DTSTART;TZID=America/Chicago:20260424T110000
DTEND;TZID=America/Chicago:20260424T140000
DTSTAMP:20260424T101747
CREATED:20260422T041406Z
LAST-MODIFIED:20260424T041310Z
UID:10008529-1777028400-1777039200@uwsuper.edu
SUMMARY:Women's Golf vs UWS Spring Invite
DESCRIPTION:4/24 11:00 AM University of Wisconsin-Superior Women’s Golf vs UWS Spring Invite
URL:https://uwsuper.edu/event/womens-golf-vs-uws-spring-invite-11564/
CATEGORIES:Athletic Event,Open to the Public
ATTACH;FMTTYPE=image/webp:https://uwsuper.edu/wp-content/uploads/UW_Superior_2024.webp
END:VEVENT
BEGIN:VEVENT
DTSTART;TZID=America/Chicago:20260424T123000
DTEND;TZID=America/Chicago:20260424T133000
DTSTAMP:20260424T101747
CREATED:20260402T183610Z
LAST-MODIFIED:20260424T133908Z
UID:10008367-1777033800-1777037400@uwsuper.edu
SUMMARY:Study Away Tabling
DESCRIPTION:Learn about domestic and international study away opportunities from the Study Away Assistants\, who recently returned from their adventures abroad!
URL:https://uwsuper.edu/event/study-away-tabling-2026-04-24/
CATEGORIES:Student Event
END:VEVENT
BEGIN:VEVENT
DTSTART;TZID=America/Chicago:20260424T130000
DTEND;TZID=America/Chicago:20260424T160000
DTSTAMP:20260424T101747
CREATED:20260128T044018Z
LAST-MODIFIED:20260424T041311Z
UID:10007911-1777035600-1777046400@uwsuper.edu
SUMMARY:Men's Tennis vs Crown  - Swarm Game/Senior Day
DESCRIPTION:4/24 1:00 PM University of Wisconsin-Superior Men’s Tennis vs Crown  – Swarm Game/Senior Day
URL:https://uwsuper.edu/event/mens-tennis-vs-crown-swarm-game-senior-day-11332/
CATEGORIES:Athletic Event,Open to the Public
ATTACH;FMTTYPE=image/webp:https://uwsuper.edu/wp-content/uploads/Crown_College_200px.webp
END:VEVENT
BEGIN:VEVENT
DTSTART;TZID=America/Chicago:20260424T150000
DTEND;TZID=America/Chicago:20260424T180000
DTSTAMP:20260424T101747
CREATED:20250823T041243Z
LAST-MODIFIED:20260424T041312Z
UID:10006505-1777042800-1777053600@uwsuper.edu
SUMMARY:Baseball at Crown
DESCRIPTION:4/24 3:00 PM University of Wisconsin-Superior Baseball at Crown
URL:https://uwsuper.edu/event/baseball-at-crown-11421/
CATEGORIES:Athletic Event,Open to the Public
ATTACH;FMTTYPE=image/webp:https://uwsuper.edu/wp-content/uploads/Crown_College_200px.webp
END:VEVENT
BEGIN:VEVENT
DTSTART;TZID=America/Chicago:20260424T160000
DTEND;TZID=America/Chicago:20260424T180000
DTSTAMP:20260424T101747
CREATED:20251011T041419Z
LAST-MODIFIED:20260424T041313Z
UID:10007146-1777046400-1777053600@uwsuper.edu
SUMMARY:Softball vs Crown
DESCRIPTION:4/24 4:00 PM University of Wisconsin-Superior Softball vs Crown
URL:https://uwsuper.edu/event/softball-vs-crown-11485/
CATEGORIES:Athletic Event,Open to the Public
ATTACH;FMTTYPE=image/webp:https://uwsuper.edu/wp-content/uploads/Crown_College_200px.webp
END:VEVENT
BEGIN:VEVENT
DTSTART;TZID=America/Chicago:20260424T160000
DTEND;TZID=America/Chicago:20260424T190000
DTSTAMP:20260424T101747
CREATED:20260128T044021Z
LAST-MODIFIED:20260424T041312Z
UID:10007912-1777046400-1777057200@uwsuper.edu
SUMMARY:Women's Tennis vs Crown  - Swarm Game/Senior Day
DESCRIPTION:4/24 4:00 PM University of Wisconsin-Superior Women’s Tennis vs Crown  – Swarm Game/Senior Day
URL:https://uwsuper.edu/event/womens-tennis-vs-crown-swarm-game-senior-day-11357/
CATEGORIES:Athletic Event,Open to the Public
ATTACH;FMTTYPE=image/webp:https://uwsuper.edu/wp-content/uploads/Crown_College_200px.webp
END:VEVENT
BEGIN:VEVENT
DTSTART;TZID=America/Chicago:20260424T170000
DTEND;TZID=America/Chicago:20260424T180000
DTSTAMP:20260424T101747
CREATED:20260115T201713Z
LAST-MODIFIED:20260424T133909Z
UID:10007776-1777050000-1777053600@uwsuper.edu
SUMMARY:Young Americans for Freedom Weekly Meeting
DESCRIPTION:This will be a 30-60 minute long chapter meeting.
URL:https://uwsuper.edu/event/young-americans-for-freedom-weekly-meeting-2026-04-24/
CATEGORIES:Student Event
END:VEVENT
BEGIN:VEVENT
DTSTART;TZID=America/Chicago:20260424T170000
DTEND;TZID=America/Chicago:20260424T203000
DTSTAMP:20260424T101747
CREATED:20260307T030308Z
LAST-MODIFIED:20260424T133909Z
UID:10008285-1777050000-1777062600@uwsuper.edu
SUMMARY:Fake Quinceañera by VIVA
DESCRIPTION:We will host an event that celebrates the tradition of a Latin American quinceañera\, featuring music\, food\, and all the important aspects that take place in a traditional celebration.
URL:https://uwsuper.edu/event/fake-quinceanera-by-viva-2026-04-24/
CATEGORIES:Student Event
END:VEVENT
BEGIN:VEVENT
DTSTART;TZID=America/Chicago:20260425T080000
DTEND;TZID=America/Chicago:20260426T120000
DTSTAMP:20260424T101747
CREATED:20260330T210913Z
LAST-MODIFIED:20260424T133910Z
UID:10008343-1777104000-1777204800@uwsuper.edu
SUMMARY:Unplug to Reconnect Retreat
DESCRIPTION:All students are invited to join an overnight outdoor retreat at Camp Amnicon! Unplug to Reconnect will help us disconnect from our phones and reconnect with ourselves and each other through mindfulness and outdoor experiences. There is no WiFi in the forest\, but you’ll find a better connection! \n\nUnplug to Reconnect\n\n8 a.m. on Saturday\, April 25 – Noon on Sunday\, April 26 | Camp Amnicon \n$20 Per Student\, includes all meals\, transportation\, guided hikes and mindful activities\, access to lodge and trails \nOffered by the Mindfulness Club\, the Pruitt Center\, Campus Recreation and Superior Adventures \nRegistration is required. Register for Unplug to Reconnect here and sign in with your school login and password.
URL:https://uwsuper.edu/event/unplug-to-reconnect-retreat-2026-04-25/
CATEGORIES:Student Event
ATTACH;FMTTYPE=image/jpeg:https://uwsuper.edu/wp-content/uploads/Unplug-to-Reconnect-Retreat-image.jpg
END:VEVENT
BEGIN:VEVENT
DTSTART;TZID=America/Chicago:20260425T090000
DTEND;TZID=America/Chicago:20260425T110000
DTSTAMP:20260424T101747
CREATED:20251218T200346Z
LAST-MODIFIED:20260424T134009Z
UID:10007551-1777107600-1777114800@uwsuper.edu
SUMMARY:2026 Yellowjacket Family Fun Days
DESCRIPTION:Yellowjacket Athletics is excited to collaborate with one of its great corporate partners\, Clyde Iron Works\, to host Yellowjacket Family Fun Days. \nThese events are free for all alumni and friends and open to the public. No advanced registration is necessary. Just arrive\, check in\, and enjoy a morning with the student-athletes of UW-Superior. \nYellowjacket Family Fun DaysWhen: 9 to 11 AMWhere: Dr. Lydia C. Thering Fieldhouse OR Mertz Mortorelli GymnasiumAdmission: FREE! \nActivities: Floor hockey\, basketball\, soccer\, tennis\, volleyball\, races\, batting cages\, yard games and crafts. \nAttendees will also receive an autograph card\, a coupon for a free scoop of custard from Culver’s in Superior\, and a free youth ticket to a future Yellowjacket home game. \n2026 Schedule: \nCANCELED: Jan. 24 – Mertz Mortorelli Gym – Men’s and Women’s Golf/Volleyball \nFeb. 21 – Dr. Lydia C. Thering Fieldhouse – Men’s and Women’s Soccer \nMar. 21 – Mertz Mortorelli Gym – Men’s and Women’s Hockey \nApr. 25 – Mertz Mortorelli Gym – Men’s and Women’s Basketball \nFor more information\, please contact Yellowjacket Athletics at 715-395-4619.
URL:https://uwsuper.edu/event/2026-yellowjacket-family-fun-days-2026-04-25/
CATEGORIES:Alumni Event,Faculty and Staff Event,Open to the Public
ATTACH;FMTTYPE=image/jpeg:https://uwsuper.edu/wp-content/uploads/2026-Yellowjacket-Family-Fun-Days-image.jpg
END:VEVENT
BEGIN:VEVENT
DTSTART;TZID=America/Chicago:20260425T090000
DTEND;TZID=America/Chicago:20260425T110000
DTSTAMP:20260424T101747
CREATED:20260323T160512Z
LAST-MODIFIED:20260424T134010Z
UID:10008314-1777107600-1777114800@uwsuper.edu
SUMMARY:LiveWell Flavors & Friends: Herbal Tea & Spring Wraps
DESCRIPTION:Join us for a cozy and welcoming morning as we cook and learn together. \nIn this hands-on class we’ll make fresh\, healthy wraps\, mix up a refreshing iced herbal lemon tea\, and finish with a delicious dark chocolate avocado mousse. These simple recipes are nourishing\, simple\, and perfect for everyday meals. \nFlavors & Friends classes are all about community\, learning\, and enjoying good food together. Whether you love cooking or are just looking for new ideas\, everyone is welcome. No experience needed. Free event. \nRSVPs requested. \n\nLocation: Pilgrim Lutheran Church\, 820 Belknap Street\, Superior\, WI\n \nLiveWell Event: This activity is organized by LiveWell\, an initiative of the UW-Superior’s Pruitt Center for Mindfulness and Well-Being.
URL:https://uwsuper.edu/event/livewell-flavors-friends-herbal-tea-spring-wraps-2026-04-25/
CATEGORIES:Open to the Public
ATTACH;FMTTYPE=image/jpeg:https://uwsuper.edu/wp-content/uploads/LiveWell-Flavors-Friends-Herbal-Tea-Spring-Wraps-image.jpg
END:VEVENT
BEGIN:VEVENT
DTSTART;TZID=America/Chicago:20260425T110000
DTEND;TZID=America/Chicago:20260425T130000
DTSTAMP:20260424T101747
CREATED:20260128T044117Z
LAST-MODIFIED:20260424T041407Z
UID:10007913-1777114800-1777122000@uwsuper.edu
SUMMARY:Softball vs Crown  - Senior Day
DESCRIPTION:4/25 11:00 AM University of Wisconsin-Superior Softball vs Crown  – Senior Day
URL:https://uwsuper.edu/event/softball-vs-crown-senior-day-11487/
CATEGORIES:Athletic Event,Open to the Public
ATTACH;FMTTYPE=image/webp:https://uwsuper.edu/wp-content/uploads/Crown_College_200px.webp
END:VEVENT
BEGIN:VEVENT
DTSTART;TZID=America/Chicago:20260425T110000
DTEND;TZID=America/Chicago:20260425T140000
DTSTAMP:20260424T101747
CREATED:20260410T041913Z
LAST-MODIFIED:20260424T041407Z
UID:10008440-1777114800-1777125600@uwsuper.edu
SUMMARY:Men's Golf vs UWS Spring Invite
DESCRIPTION:4/25 11:00 AM University of Wisconsin-Superior Men’s Golf vs UWS Spring Invite
URL:https://uwsuper.edu/event/mens-golf-vs-uws-spring-invite-11573/
CATEGORIES:Athletic Event,Open to the Public
ATTACH;FMTTYPE=image/webp:https://uwsuper.edu/wp-content/uploads/UW_Superior_2024.webp
END:VEVENT
BEGIN:VEVENT
DTSTART;TZID=America/Chicago:20260425T110000
DTEND;TZID=America/Chicago:20260425T140000
DTSTAMP:20260424T101747
CREATED:20260422T041510Z
LAST-MODIFIED:20260424T041406Z
UID:10008530-1777114800-1777125600@uwsuper.edu
SUMMARY:Women's Golf vs UWS Spring Invite
DESCRIPTION:4/25 11:00 AM University of Wisconsin-Superior Women’s Golf vs UWS Spring Invite
URL:https://uwsuper.edu/event/womens-golf-vs-uws-spring-invite-11565/
CATEGORIES:Athletic Event,Open to the Public
ATTACH;FMTTYPE=image/webp:https://uwsuper.edu/wp-content/uploads/UW_Superior_2024.webp
END:VEVENT
BEGIN:VEVENT
DTSTART;TZID=America/Chicago:20260425T113000
DTEND;TZID=America/Chicago:20260425T143000
DTSTAMP:20260424T101747
CREATED:20260422T041512Z
LAST-MODIFIED:20260424T041409Z
UID:10008531-1777116600-1777127400@uwsuper.edu
SUMMARY:Women's Track & Field vs Dan Conway Classic
DESCRIPTION:4/25 11:30 AM University of Wisconsin-Superior Women’s Track & Field vs Dan Conway Classic
URL:https://uwsuper.edu/event/womens-track-field-vs-dan-conway-classic-11542/
CATEGORIES:Athletic Event,Open to the Public
ATTACH;FMTTYPE=image/webp:https://uwsuper.edu/wp-content/uploads/UW_Superior_2024.webp
END:VEVENT
BEGIN:VEVENT
DTSTART;TZID=America/Chicago:20260425T113000
DTEND;TZID=America/Chicago:20260425T143000
DTSTAMP:20260424T101747
CREATED:20260422T041513Z
LAST-MODIFIED:20260424T041408Z
UID:10008532-1777116600-1777127400@uwsuper.edu
SUMMARY:Men's Track & Field vs Dan Conway Classic
DESCRIPTION:4/25 11:30 AM University of Wisconsin-Superior Men’s Track & Field vs Dan Conway Classic
URL:https://uwsuper.edu/event/mens-track-field-vs-dan-conway-classic-11533/
CATEGORIES:Athletic Event,Open to the Public
ATTACH;FMTTYPE=image/webp:https://uwsuper.edu/wp-content/uploads/UW_Superior_2024.webp
END:VEVENT
BEGIN:VEVENT
DTSTART;TZID=America/Chicago:20260425T130000
DTEND;TZID=America/Chicago:20260425T150000
DTSTAMP:20260424T101747
CREATED:20260128T044216Z
LAST-MODIFIED:20260424T041508Z
UID:10007914-1777122000-1777129200@uwsuper.edu
SUMMARY:Softball vs Crown
DESCRIPTION:4/25 1:00 PM University of Wisconsin-Superior Softball vs Crown
URL:https://uwsuper.edu/event/softball-vs-crown-11486/
CATEGORIES:Athletic Event,Open to the Public
ATTACH;FMTTYPE=image/webp:https://uwsuper.edu/wp-content/uploads/Crown_College_200px.webp
END:VEVENT
BEGIN:VEVENT
DTSTART;TZID=America/Chicago:20260425T130000
DTEND;TZID=America/Chicago:20260425T160000
DTSTAMP:20260424T101747
CREATED:20250805T041153Z
LAST-MODIFIED:20260424T041509Z
UID:10006252-1777122000-1777132800@uwsuper.edu
SUMMARY:Men's Tennis at Bethany Lutheran
DESCRIPTION:4/25 1:00 PM University of Wisconsin-Superior Men’s Tennis at Bethany Lutheran
URL:https://uwsuper.edu/event/mens-tennis-at-bethany-lutheran-11333/
CATEGORIES:Athletic Event,Open to the Public
ATTACH;FMTTYPE=image/webp:https://uwsuper.edu/wp-content/uploads/blc.webp
END:VEVENT
BEGIN:VEVENT
DTSTART;TZID=America/Chicago:20260425T130000
DTEND;TZID=America/Chicago:20260425T160000
DTSTAMP:20260424T101747
CREATED:20250823T041246Z
LAST-MODIFIED:20260424T041509Z
UID:10006506-1777122000-1777132800@uwsuper.edu
SUMMARY:Baseball at Crown
DESCRIPTION:4/25 1:00 PM University of Wisconsin-Superior Baseball at Crown
URL:https://uwsuper.edu/event/baseball-at-crown-11422/
CATEGORIES:Athletic Event,Open to the Public
ATTACH;FMTTYPE=image/webp:https://uwsuper.edu/wp-content/uploads/Crown_College_200px.webp
END:VEVENT
BEGIN:VEVENT
DTSTART;TZID=America/Chicago:20260425T140000
DTEND;TZID=America/Chicago:20260425T160000
DTSTAMP:20260424T101747
CREATED:20260417T194036Z
LAST-MODIFIED:20260424T134010Z
UID:10008499-1777125600-1777132800@uwsuper.edu
SUMMARY:UWS Unified Basketball Tournament
DESCRIPTION:UWS Unified and UMD Unified are hosting a Basketball Tournament on April 25\, 2026\, from 2 to 4 pm at the Marcovich Wellness Center (UW-Superior). Everyone is welcome\, and we will have free pizza and snacks for all attendees. \nUnified is a program that plans and participates in activities for people with and without disabilities. We are partners of Special Olympics and a registered Unified Champion School.
URL:https://uwsuper.edu/event/uws-unified-basketball-tournament-2026-04-25/
CATEGORIES:Athletic Event,Faculty and Staff Event,Open to the Public,Student Event
ATTACH;FMTTYPE=image/jpeg:https://uwsuper.edu/wp-content/uploads/UWS-Unified-Basketball-Tournament-image-scaled.jpg
END:VEVENT
BEGIN:VEVENT
DTSTART;TZID=America/Chicago:20260425T153000
DTEND;TZID=America/Chicago:20260425T183000
DTSTAMP:20260424T101747
CREATED:20250823T041250Z
LAST-MODIFIED:20260424T041510Z
UID:10006507-1777131000-1777141800@uwsuper.edu
SUMMARY:Baseball at Crown
DESCRIPTION:4/25 3:30 PM University of Wisconsin-Superior Baseball at Crown
URL:https://uwsuper.edu/event/baseball-at-crown-11423/
CATEGORIES:Athletic Event,Open to the Public
ATTACH;FMTTYPE=image/webp:https://uwsuper.edu/wp-content/uploads/Crown_College_200px.webp
END:VEVENT
BEGIN:VEVENT
DTSTART;TZID=America/Chicago:20260426T120000
DTEND;TZID=America/Chicago:20260426T150000
DTSTAMP:20260424T101747
CREATED:20260421T041706Z
LAST-MODIFIED:20260424T041511Z
UID:10008519-1777204800-1777215600@uwsuper.edu
SUMMARY:Baseball at Carleton
DESCRIPTION:4/26 12:00 PM University of Wisconsin-Superior Baseball at Carleton
URL:https://uwsuper.edu/event/baseball-at-carleton-11398/
CATEGORIES:Athletic Event,Open to the Public
ATTACH;FMTTYPE=image/webp:https://uwsuper.edu/wp-content/uploads/Carleton-College.webp
END:VEVENT
BEGIN:VEVENT
DTSTART;TZID=America/Chicago:20260426T143000
DTEND;TZID=America/Chicago:20260426T173000
DTSTAMP:20260424T101747
CREATED:20260421T041707Z
LAST-MODIFIED:20260424T041610Z
UID:10008520-1777213800-1777224600@uwsuper.edu
SUMMARY:Baseball at Carleton
DESCRIPTION:4/26 2:30 PM University of Wisconsin-Superior Baseball at Carleton
URL:https://uwsuper.edu/event/baseball-at-carleton-11399/
CATEGORIES:Athletic Event,Open to the Public
ATTACH;FMTTYPE=image/webp:https://uwsuper.edu/wp-content/uploads/Carleton-College.webp
END:VEVENT
BEGIN:VEVENT
DTSTART;TZID=America/Chicago:20260426T160000
DTEND;TZID=America/Chicago:20260426T170000
DTSTAMP:20260424T101747
CREATED:20250813T170252Z
LAST-MODIFIED:20260424T134011Z
UID:10006342-1777219200-1777222800@uwsuper.edu
SUMMARY:Duruflé Requiem: UWS Chorus & Orchestra with Hibbing H.S.
DESCRIPTION:Duruflé Requiem: UWS Chorus & Orchestra with Hibbing H.S.Sunday\, April 26 Time & Location TBD 
URL:https://uwsuper.edu/event/durufle-requiem-uws-chorus-orchestra-with-hibbing-h-s-2026-04-26/
CATEGORIES:Fine and Performing Arts,Open to the Public
END:VEVENT
BEGIN:VEVENT
DTSTART;TZID=America/Chicago:20260426T180000
DTEND;TZID=America/Chicago:20260426T193000
DTSTAMP:20260424T101747
CREATED:20260204T212507Z
LAST-MODIFIED:20260424T134011Z
UID:10008030-1777226400-1777231800@uwsuper.edu
SUMMARY:Sh*t Happens: Men's Discussion Group
DESCRIPTION:Location: Vintage Italian Pizza (VIP)\, 1201 Tower Ave\, Superior\, WI \n\n\n\n\n\nSh*t Happens is a free (both cost and alcohol-free)\, monthly\, down-to-earth\, judgment-free space for men to talk openly about life’s challenges\, stress\, relationships\, and personal growth—over pizza. The group combines humor\, honesty\, and connection to help participants navigate the unpredictable moments when “sh*t happens.”  \nThis is not therapy—it’s real talk\, connection\, and support for men who are ready to stop going it alone. RSVP required. Once on the LiveWell calendar page\, scroll to the 4th Sunday of the month and click on that month’s event to register. Registration is open to all men\, but an RSVP is required for each session. Come to one or come to all! \nFacilitated by Randy Barker\, Director of the UW-Superior’s Pruitt Center for Mindfulness & Well-Being.
URL:https://uwsuper.edu/event/sht-happens-mens-discussion-group-2026-04-26/
CATEGORIES:Open to the Public
END:VEVENT
BEGIN:VEVENT
DTSTART;TZID=America/Chicago:20260427T073000
DTEND;TZID=America/Chicago:20260427T083000
DTSTAMP:20260424T101747
CREATED:20260128T153713Z
LAST-MODIFIED:20260424T134109Z
UID:10007948-1777275000-1777278600@uwsuper.edu
SUMMARY:LiveWell Kettlebell Class
DESCRIPTION:Swing\, lift\, and sweat your way to total-body strength in this high-energy kettlebell class!  \nThis FREE class is offered at the Superior YMCA every Monday from 7:45am-8:45am\, just be ready to sign a waiver and show your ID at the front desk before attending. This class is designed to build power\, endurance\, and stability\, each session combines dynamic movements and functional training to sculpt muscle and increase muscular endurance. Whether you’re new to kettlebells or looking to level up your fitness\, this class is for all levels. Get ready to challenge your core\, boost your cardio\, and leave feeling stronger than ever. \nSuperior Douglas County Family YMCA\, 9 North 21st Street\, Superior\, WI \nLiveWell Event: This activity is organized by LiveWell\, an initiative of the UW-Superior’s Pruitt Center for Mindfulness and Well-Being.
URL:https://uwsuper.edu/event/livewell-kettlebell-class-2026-04-27/
CATEGORIES:Open to the Public
ATTACH;FMTTYPE=image/jpeg:https://uwsuper.edu/wp-content/uploads/LiveWell-Kettlebell-Class-image.jpg
END:VEVENT
BEGIN:VEVENT
DTSTART;TZID=America/Chicago:20260427T120000
DTEND;TZID=America/Chicago:20260427T124500
DTSTAMP:20260424T101747
CREATED:20251217T210346Z
LAST-MODIFIED:20260424T134109Z
UID:10007544-1777291200-1777293900@uwsuper.edu
SUMMARY:Canvas Training: Student ePortfolios
DESCRIPTION:Canvas’ Updated Student ePortfolios\n\n\nMonday\, April 27th\, 12:00 – 12:45 p.m. \n\n\nCome see a demonstration of Canvas’ updated student ePortfolio tool! The current tool will be retired on June 30\, 2026. After this date\, only the new tool will be available\, and current ePortfolios will be deleted automatically. More information about how students can save their existing work will be shared or contact the Canvas Team at canvas@uwsuper.edu for immediate questions. \n\n\n\nPlease join the following Zoom room to attend this training. No RSVP necessary: \n\nhttps://wisconsin-edu.zoom.us/j/93683302442?pwd=zg4GSSfBlR3fupXaoMCfWKIAgdT93t.1 \n \nMeeting ID: 936 8330 2442\nPasscode: 018221
URL:https://uwsuper.edu/event/canvas-training-student-eportfolios-2026-04-27/
CATEGORIES:Faculty and Staff Event,Markwood Center (CLIC) Event
END:VEVENT
END:VCALENDAR